BEGIN:VCALENDAR
VERSION:2.0
PRODID:-//Plone.org//NONSGML plone.app.event//EN
X-WR-TIMEZONE:Europe/Berlin
BEGIN:VEVENT
SUMMARY:Taekwondo-Camp 2020
DTSTART;VALUE=DATE:20200724
DTEND;VALUE=DATE:20200727
DTSTAMP;VALUE=DATE-TIME:20260419T171532Z
UID:cbd2724b68b546c687d7ed6bac739bd6
CONTACT:Jens Moehl
CREATED;VALUE=DATE-TIME:20170516T190507Z
DESCRIPTION:Trainingscamp mit Lehrgang am Brombachsee
LAST-MODIFIED;VALUE=DATE-TIME:20200113T154822Z
LOCATION:Absberg Badehalbinsel
URL:https://ta-remseck.de/events/taekwondo-camp-2020
END:VEVENT
END:VCALENDAR
